BEGIN:VCALENDAR
VERSION:2.0
PRODID:-//jEvents 2.0 for Joomla//EN
CALSCALE:GREGORIAN
METHOD:PUBLISH
BEGIN:VTIMEZONE
TZID:Europe/Berlin
BEGIN:STANDARD
DTSTART:20231029T020000
RDATE:20240331T030000
TZOFFSETFROM:+0200
TZOFFSETTO:+0100
TZNAME:Europe/Berlin CET
END:STANDARD
BEGIN:STANDARD
DTSTART:20241027T020000
RDATE:20250330T030000
TZOFFSETFROM:+0200
TZOFFSETTO:+0100
TZNAME:Europe/Berlin CET
END:STANDARD
BEGIN:STANDARD
DTSTART:20251026T020000
RDATE:20260329T030000
TZOFFSETFROM:+0200
TZOFFSETTO:+0100
TZNAME:Europe/Berlin CET
END:STANDARD
BEGIN:STANDARD
DTSTART:20261025T020000
RDATE:20270328T030000
TZOFFSETFROM:+0200
TZOFFSETTO:+0100
TZNAME:Europe/Berlin CET
END:STANDARD
BEGIN:STANDARD
DTSTART:20271031T020000
RDATE:20280326T030000
TZOFFSETFROM:+0200
TZOFFSETTO:+0100
TZNAME:Europe/Berlin CET
END:STANDARD
BEGIN:DAYLIGHT
DTSTART:20230520T110000
RDATE:20231029T020000
TZOFFSETFROM:+0100
TZOFFSETTO:+0200
TZNAME:Europe/Berlin CEST
END:DAYLIGHT
BEGIN:DAYLIGHT
DTSTART:20240331T030000
RDATE:20241027T020000
TZOFFSETFROM:+0100
TZOFFSETTO:+0200
TZNAME:Europe/Berlin CEST
END:DAYLIGHT
BEGIN:DAYLIGHT
DTSTART:20250330T030000
RDATE:20251026T020000
TZOFFSETFROM:+0100
TZOFFSETTO:+0200
TZNAME:Europe/Berlin CEST
END:DAYLIGHT
BEGIN:DAYLIGHT
DTSTART:20260329T030000
RDATE:20261025T020000
TZOFFSETFROM:+0100
TZOFFSETTO:+0200
TZNAME:Europe/Berlin CEST
END:DAYLIGHT
BEGIN:DAYLIGHT
DTSTART:20270328T030000
RDATE:20271031T020000
TZOFFSETFROM:+0100
TZOFFSETTO:+0200
TZNAME:Europe/Berlin CEST
END:DAYLIGHT
END:VTIMEZONE
BEGIN:VEVENT
UID:4c430213aab2709977bf2b1fc835c776
CATEGORIES:Vereinsintern
CREATED:20240517T173618
SUMMARY:Schleifchen Turnier Ernsthofen
LOCATION:Ernsthofen
DESCRIPTION;ENCODING=QUOTED-PRINTABLE:Kontakt Tabea Hüther:\n\nEmail: Diese E-Mail-Adresse ist vor Spambots gesch
 ützt! Zur Anzeige muss JavaScript eingeschaltet sein!
				document.getEleme
 ntById('cloakf2066b56d7c2ca018a6d54b4251f4fc0').innerHTML = '';
				var pre
 fix = '&#109;a' + 'i&#108;' + '&#116;o';
				var path = 'hr' + 'ef' + '=';

 				var addyf2066b56d7c2ca018a6d54b4251f4fc0 = 'k&#97;ss&#101;' + '&#64;';

 				addyf2066b56d7c2ca018a6d54b4251f4fc0 = addyf2066b56d7c2ca018a6d54b4251f
 4fc0 + 'tc-&#101;rnsth&#111;f&#101;n' + '&#46;' + 'd&#101;';
				var addy_t
 extf2066b56d7c2ca018a6d54b4251f4fc0 = 'k&#97;ss&#101;' + '&#64;' + 'tc-&#10
 1;rnsth&#111;f&#101;n' + '&#46;' + 'd&#101;';document.getElementById('cloak
 f2066b56d7c2ca018a6d54b4251f4fc0').innerHTML += ''+addy_textf2066b56d7c2ca0
 18a6d54b4251f4fc0+'';
		\n\n\nTel.: 0152 385 467 02\n Dieser Event wurde im
 portiert von: http://www.tc-ernsthofen.de/index.php/component/jevents/event
 detail/161/-/schleifchen-turnier-ernsthofen?Itemid=1&amp;tmpl=component
CONTACT:Tabea Hüther:  Email: Diese E-Mail-Adresse ist vor Spambots geschützt! Zur Anzeige muss JavaScript eingeschaltet sein!
				document.getElementById('cloak4fd238d1738b88f3d112c5349bb4c329').innerHTML = '';
				var prefix = '&#109;a' + 'i&#108;' + '&#116;o';
				var path = 'hr' + 'ef' + '=';
				var addy4fd238d1738b88f3d112c5349bb4c329 = 'k&#97;ss&#101;' + '&#64;';
				addy4fd238d1738b88f3d112c5349bb4c329 = addy4fd238d1738b88f3d112c5349bb4c329 + 'tc-&#101;rnsth&#111;f&#101;n' + '&#46;' + 'd&#101;';
				var addy_text4fd238d1738b88f3d112c5349bb4c329 = 'k&#97;ss&#101;' + '&#64;' + 'tc-&#101;rnsth&#111;f&#101;n' + '&#46;' + 'd&#101;';document.getElementById('cloak4fd238d1738b88f3d112c5349bb4c329').innerHTML += ''+addy_text4fd238d1738b88f3d112c5349bb4c329+'';
		  Tel.: 0152 385 467 02
X-EXTRAINFO:Liebe Mitglieder und Freunde des TC Ernsthofen,\n\nwir möchten euch herzlic
 h zu unserem Schleifchen-Turnier am Pfingstmontag, den 20.05.2024, einladen
 .\n\nZiel des Turniers ist es besonders Einsteiger und Neulinge für Tennis 
 zu begeistern. Blutige Anfänger sind somit ausdrücklich erwünscht. Wir werd
 en versuchen immer erfahrene Spieler an die Seite von Anfänger zu stellen.\
 n\nEine Anmeldung ist nicht notwendig, aber für die Planung erwünscht. Das 
 Event ist dem ein oder anderem Mitglied auch unter dem Eltern-Kind-Turnier 
 bekannt.\n\nGetränke und Essen sind auf der Anlage erhältlich. Wir werden w
 ieder Grillen und freuen uns über alle, die eine Beilage hinzufügen möchten
 . Bei Fragen könnt ihr euch jederzeit an Tabea Hüther wenden. Sie übernimmt
  die Organisation für die Veranstaltung.\n\nWir freuen uns auf einen schöne
 n Tag mit Groß und Klein und hoffentlich auch neuen Gesichtern
DTSTAMP:20260424T230156Z
DTSTART;TZID=Europe/Berlin:20240520T110000
SEQUENCE:0
TRANSP:OPAQUE
END:VEVENT
END:VCALENDAR